BEGIN:VCALENDAR
VERSION:2.0
PRODID:-//wp-events-plugin.com//7.2.3.1//EN
TZID:America/New_York
X-WR-TIMEZONE:America/New_York
BEGIN:VEVENT
UID:143@sheepusa.org
DTSTART;TZID=America/New_York;VALUE=DATE:20200529
DTEND;TZID=America/New_York;VALUE=DATE:20200531
DTSTAMP:20200518T211734Z
URL:https://www.sheepusa.org/events/wv-sheep-goat-show-sale
SUMMARY:WV Sheep & Goat Show & Sale
DESCRIPTION:70th Annual West Virginia Sheep &amp\; Goat Show &amp\; Sale\n\
 nFor information\, visit ShowStockPlanet.com.\n\n&nbsp\;
LOCATION:Petersburg\, W.V.\, {no_location}\, Petersburg\, WV\, United State
 s
X-APPLE-STRUCTURED-LOCATION;VALUE=URI;X-ADDRESS={no_location}\, Petersburg\
 , WV\, United States;X-APPLE-RADIUS=100;X-TITLE=Petersburg\, W.V.:geo:0,0
END:VEVENT
BEGIN:VTIMEZONE
TZID:America/New_York
X-LIC-LOCATION:America/New_York
BEGIN:DAYLIGHT
DTSTART:20200308T030000
TZOFFSETFROM:-0500
TZOFFSETTO:-0400
TZNAME:EDT
END:DAYLIGHT
END:VTIMEZONE
END:VCALENDAR