BEGIN:VCALENDAR
VERSION:2.0
PRODID:-//wp-events-plugin.com//7.2.3.1//EN
TZID:America/New_York
X-WR-TIMEZONE:America/New_York
BEGIN:VEVENT
UID:854@sheepusa.org
DTSTART;TZID=America/Chicago;VALUE=DATE:20250201
DTEND;TZID=America/Chicago;VALUE=DATE:20250202
DTSTAMP:20250123T163720Z
URL:https://www.sheepusa.org/events/western-kansas-sheep-goat-conference
SUMMARY:Western Kansas Sheep & Goat Conference
DESCRIPTION:Western Kansas Sheep &amp\; Goat Conference\n\nFor more informa
 tion\, visit Docs.google.com/forms/d/e/1FAIpQLSePlE5Iv7v2CKJhDQcAhDkFtCXKs
 c6MjRNY0OlyH34jkiuiCQ/viewform.\n\n&nbsp\;
LOCATION:Jetmore\, Kan.\, {No Location}\, Jetmore\, KS\, United States
X-APPLE-STRUCTURED-LOCATION;VALUE=URI;X-ADDRESS={No Location}\, Jetmore\, K
 S\, United States;X-APPLE-RADIUS=100;X-TITLE=Jetmore\, Kan.:geo:0,0
END:VEVENT
BEGIN:VTIMEZONE
TZID:America/Chicago
X-LIC-LOCATION:America/Chicago
BEGIN:STANDARD
DTSTART:20241103T010000
TZOFFSETFROM:-0500
TZOFFSETTO:-0600
TZNAME:CST
END:STANDARD
END:VTIMEZONE
END:VCALENDAR