BEGIN:VCALENDAR
VERSION:2.0
PRODID:-//wp-events-plugin.com//7.2.3.1//EN
TZID:America/New_York
X-WR-TIMEZONE:America/New_York
BEGIN:VEVENT
UID:78@sheepusa.org
DTSTART;TZID=America/Denver;VALUE=DATE:20191107
DTEND;TZID=America/Denver;VALUE=DATE:20191111
DTSTAMP:20191021T163519Z
URL:https://www.sheepusa.org/events/west-central-states-wool-growers-conve
 ntion
SUMMARY:West Central States Wool Growers Convention
DESCRIPTION:West Central States Wool Growers Convention\n\nFor information\
 , visit Events.r20.constantcontact.com/register/event?oeidk=a07egm5b5is658
 3a377&amp\;llr=78nnnbtab\n\n&nbsp\;
LOCATION:Evanston\, Wyo.\, {no_location}\, Evanston\, WY\, United States
X-APPLE-STRUCTURED-LOCATION;VALUE=URI;X-ADDRESS={no_location}\, Evanston\, 
 WY\, United States;X-APPLE-RADIUS=100;X-TITLE=Evanston\, Wyo.:geo:0,0
END:VEVENT
BEGIN:VTIMEZONE
TZID:America/Denver
X-LIC-LOCATION:America/Denver
BEGIN:STANDARD
DTSTART:20191103T010000
TZOFFSETFROM:-0600
TZOFFSETTO:-0700
TZNAME:MST
END:STANDARD
END:VTIMEZONE
END:VCALENDAR