BEGIN:VCALENDAR
VERSION:2.0
PRODID:-//wp-events-plugin.com//7.2.3.1//EN
TZID:America/New_York
X-WR-TIMEZONE:America/New_York
BEGIN:VEVENT
UID:879@sheepusa.org
DTSTART;TZID=America/Los_Angeles;VALUE=DATE:20250412
DTEND;TZID=America/Los_Angeles;VALUE=DATE:20250413
DTSTAMP:20250220T200923Z
URL:https://www.sheepusa.org/events/transhumance-festival-2
SUMMARY:Transhumance Festival
DESCRIPTION:Transhumance Festival\n\nFor more information\, visit Sassyandg
 rassy.com/.\n\n&nbsp\;
LOCATION:Petaluma\, Calif.\, {No Location}\, Petaluma\, CA\, United States
X-APPLE-STRUCTURED-LOCATION;VALUE=URI;X-ADDRESS={No Location}\, Petaluma\, 
 CA\, United States;X-APPLE-RADIUS=100;X-TITLE=Petaluma\, Calif.:geo:0,0
END:VEVENT
BEGIN:VTIMEZONE
TZID:America/Los_Angeles
X-LIC-LOCATION:America/Los_Angeles
BEGIN:DAYLIGHT
DTSTART:20250309T030000
TZOFFSETFROM:-0800
TZOFFSETTO:-0700
TZNAME:PDT
END:DAYLIGHT
END:VTIMEZONE
END:VCALENDAR