BEGIN:VCALENDAR
VERSION:2.0
PRODID:-//wp-events-plugin.com//7.2.3.1//EN
TZID:America/New_York
X-WR-TIMEZONE:America/New_York
BEGIN:VEVENT
UID:995@sheepusa.org
DTSTART;TZID=America/Chicago;VALUE=DATE:20260227
DTEND;TZID=America/Chicago;VALUE=DATE:20260301
DTSTAMP:20251022T154711Z
URL:https://www.sheepusa.org/events/tn-sheep-producers-annual-meeting-and-
 educational-syposium
SUMMARY:TN Sheep Producers Annual meeting and educational syposium
DESCRIPTION:[vc_row][vc_column][vc_column_text]TSPA's annual meeting and ed
 ucational symposium will gather sheep producers from across the state to Y
 ork 4-H Center in Crossville TN. This two day meeting will include industr
 y updates\, speakers and a separate track for young shepherds. Friday nigh
 t will include appetizers and Saturday's lunch will feature TN lamb. Visit
  www.tennesseesheep.org for more information and to register.[/vc_column_t
 ext][/vc_column][/vc_row]
END:VEVENT
BEGIN:VTIMEZONE
TZID:America/Chicago
X-LIC-LOCATION:America/Chicago
BEGIN:STANDARD
DTSTART:20251102T010000
TZOFFSETFROM:-0500
TZOFFSETTO:-0600
TZNAME:CST
END:STANDARD
END:VTIMEZONE
END:VCALENDAR