BEGIN:VCALENDAR
VERSION:2.0
PRODID:-//wp-events-plugin.com//7.2.3.1//EN
TZID:America/New_York
X-WR-TIMEZONE:America/New_York
BEGIN:VEVENT
UID:121@sheepusa.org
DTSTART;TZID=America/Chicago;VALUE=DATE:20200601
DTEND;TZID=America/Chicago;VALUE=DATE:20200606
DTSTAMP:20200304T214555Z
URL:https://www.sheepusa.org/events/texas-sheep-and-goat-youth-ranchers-ro
 undup
SUMMARY:Texas Sheep and Goat Youth Ranchers Roundup
DESCRIPTION:Texas Sheep and Goat Youth Ranchers Roundup\n\nFor information\
 , visit sheepandgoatvalidation.tamu.edu.\n\n&nbsp\;
LOCATION:San Angelo\, Texas\, {no_location}\, San Angelo\, TX\, United Stat
 es
X-APPLE-STRUCTURED-LOCATION;VALUE=URI;X-ADDRESS={no_location}\, San Angelo\
 , TX\, United States;X-APPLE-RADIUS=100;X-TITLE=San Angelo\, Texas:geo:0,0
END:VEVENT
BEGIN:VTIMEZONE
TZID:America/Chicago
X-LIC-LOCATION:America/Chicago
BEGIN:DAYLIGHT
DTSTART:20200308T030000
TZOFFSETFROM:-0600
TZOFFSETTO:-0500
TZNAME:CDT
END:DAYLIGHT
END:VTIMEZONE
END:VCALENDAR