BEGIN:VCALENDAR
VERSION:2.0
PRODID:-//wp-events-plugin.com//7.2.3.1//EN
TZID:America/New_York
X-WR-TIMEZONE:America/New_York
BEGIN:VEVENT
UID:111@sheepusa.org
DTSTART;TZID=America/Chicago;VALUE=DATE:20200925
DTEND;TZID=America/Chicago;VALUE=DATE:20200926
DTSTAMP:20200331T193320Z
URL:https://www.sheepusa.org/events/texas-am-agrilife-lgd-field-day
SUMMARY:Texas A&M AgriLife LGD Field Day
DESCRIPTION:Texas A&amp\;M AgriLife LGD Field Day\n\nFor more information\,
  visit SanAngelo.TAMU.edu\n\n&nbsp\;
LOCATION:Fredericksburg\, Texas\, {no_location}\, Fredericksburg\, TX\, Uni
 ted States
X-APPLE-STRUCTURED-LOCATION;VALUE=URI;X-ADDRESS={no_location}\, Fredericksb
 urg\, TX\, United States;X-APPLE-RADIUS=100;X-TITLE=Fredericksburg\, Texas
 :geo:0,0
END:VEVENT
BEGIN:VTIMEZONE
TZID:America/Chicago
X-LIC-LOCATION:America/Chicago
BEGIN:DAYLIGHT
DTSTART:20200308T030000
TZOFFSETFROM:-0600
TZOFFSETTO:-0500
TZNAME:CDT
END:DAYLIGHT
END:VTIMEZONE
END:VCALENDAR