BEGIN:VCALENDAR
VERSION:2.0
PRODID:-//wp-events-plugin.com//7.2.3.1//EN
TZID:America/New_York
X-WR-TIMEZONE:America/New_York
BEGIN:VEVENT
UID:803@sheepusa.org
DTSTART;TZID=America/New_York;VALUE=DATE:20250328
DTEND;TZID=America/New_York;VALUE=DATE:20250330
DTSTAMP:20241004T162956Z
URL:https://www.sheepusa.org/events/tennessee-sheep-shearing-school-2
SUMMARY:Tennessee Sheep Shearing School
DESCRIPTION:Tennessee Sheep Shearing School\n\nFor more information\, visit
  TennesseeSheep.org/shearing-school.\n\n&nbsp\;
LOCATION:Murfreesboro\, Tenn.\, {No Location}\, Murfreesboro\, TN\, United 
 States
X-APPLE-STRUCTURED-LOCATION;VALUE=URI;X-ADDRESS={No Location}\, Murfreesbor
 o\, TN\, United States;X-APPLE-RADIUS=100;X-TITLE=Murfreesboro\, Tenn.:geo
 :0,0
END:VEVENT
BEGIN:VTIMEZONE
TZID:America/New_York
X-LIC-LOCATION:America/New_York
BEGIN:DAYLIGHT
DTSTART:20250309T030000
TZOFFSETFROM:-0500
TZOFFSETTO:-0400
TZNAME:EDT
END:DAYLIGHT
END:VTIMEZONE
END:VCALENDAR