BEGIN:VCALENDAR
VERSION:2.0
PRODID:-//wp-events-plugin.com//7.2.3.1//EN
TZID:America/New_York
X-WR-TIMEZONE:America/New_York
BEGIN:VEVENT
UID:684@sheepusa.org
DTSTART;TZID=America/New_York;VALUE=DATE:20240315
DTEND;TZID=America/New_York;VALUE=DATE:20240317
DTSTAMP:20240207T210732Z
URL:https://www.sheepusa.org/events/tennessee-sheep-producers-association-
 sheep-production-conference-annual-meeting
SUMMARY:Tennessee Sheep Producers Association Sheep Production Conference &
  Annual Meeting
DESCRIPTION:Tennessee Sheep Producers Association Sheep Production Conferen
 ce &amp\; Annual Meeting\n\nFor more information\, visit TennesseeSheep.or
 g.\n\n&nbsp\;
LOCATION:Crossville\, Tenn.\, {No Location}\, Crossville\, TN\, United Stat
 es
X-APPLE-STRUCTURED-LOCATION;VALUE=URI;X-ADDRESS={No Location}\, Crossville\
 , TN\, United States;X-APPLE-RADIUS=100;X-TITLE=Crossville\, Tenn.:geo:0,0
END:VEVENT
BEGIN:VTIMEZONE
TZID:America/New_York
X-LIC-LOCATION:America/New_York
BEGIN:DAYLIGHT
DTSTART:20240310T030000
TZOFFSETFROM:-0500
TZOFFSETTO:-0400
TZNAME:EDT
END:DAYLIGHT
END:VTIMEZONE
END:VCALENDAR