BEGIN:VCALENDAR
VERSION:2.0
PRODID:-//wp-events-plugin.com//7.2.3.1//EN
TZID:America/New_York
X-WR-TIMEZONE:America/New_York
BEGIN:VEVENT
UID:220@sheepusa.org
DTSTART;TZID=America/Chicago:20210325T000000
DTEND;TZID=America/Chicago:20210325T000000
DTSTAMP:20210219T172803Z
URL:https://www.sheepusa.org/events/selecting-worm-resistant-animals
SUMMARY:Selecting Worm Resistant Animals
DESCRIPTION:Selecting Worm Resistant Animals Webinar\n\nFor more informatio
 n\, visit https://www.cognitoforms.com/MackenzieStrawser/RegistrationForSe
 lectingWormResistantAnimalsWithDrDahliaOBrien.\n\n&nbsp\;
END:VEVENT
BEGIN:VTIMEZONE
TZID:America/Chicago
X-LIC-LOCATION:America/Chicago
BEGIN:DAYLIGHT
DTSTART:20210314T030000
TZOFFSETFROM:-0600
TZOFFSETTO:-0500
TZNAME:CDT
END:DAYLIGHT
END:VTIMEZONE
END:VCALENDAR