BEGIN:VCALENDAR
VERSION:2.0
PRODID:-//wp-events-plugin.com//7.2.3.1//EN
TZID:America/New_York
X-WR-TIMEZONE:America/New_York
BEGIN:VEVENT
UID:890@sheepusa.org
DTSTART;TZID=America/Chicago;VALUE=DATE:20250709
DTEND;TZID=America/Chicago;VALUE=DATE:20250713
DTSTAMP:20250311T133519Z
URL:https://www.sheepusa.org/events/pipestone-lamb-and-wool-program-sheep-
 for-profit-school
SUMMARY:Pipestone Lamb and Wool Program Sheep for Profit School
DESCRIPTION:Pipestone Lamb and Wool Program Sheep for Profit School\n\nFor 
 more information\, visit MNWest.edu/academics/management-education/lamb-wo
 ol-management/sheep-for-profit-school.php.\n\n&nbsp\;
LOCATION:Pipestone\, Minn.\, {no_location}\, Pipestone\, MN\, United States
X-APPLE-STRUCTURED-LOCATION;VALUE=URI;X-ADDRESS={no_location}\, Pipestone\,
  MN\, United States;X-APPLE-RADIUS=100;X-TITLE=Pipestone\, Minn.:geo:0,0
END:VEVENT
BEGIN:VTIMEZONE
TZID:America/Chicago
X-LIC-LOCATION:America/Chicago
BEGIN:DAYLIGHT
DTSTART:20250309T030000
TZOFFSETFROM:-0600
TZOFFSETTO:-0500
TZNAME:CDT
END:DAYLIGHT
END:VTIMEZONE
END:VCALENDAR