BEGIN:VCALENDAR
VERSION:2.0
PRODID:-//wp-events-plugin.com//7.2.3.1//EN
TZID:America/New_York
X-WR-TIMEZONE:America/New_York
BEGIN:VEVENT
UID:98@sheepusa.org
DTSTART;TZID=America/Los_Angeles;VALUE=DATE:20191113
DTEND;TZID=America/Los_Angeles;VALUE=DATE:20191116
DTSTAMP:20191122T210305Z
URL:https://www.sheepusa.org/events/oregon-sheep-growers-association-annua
 l-meeting
SUMMARY:Oregon Sheep Growers Association Annual Meeting
DESCRIPTION:Oregon Sheep Growers Association Annual Meeting\n\nFor informat
 ion\, visit SheepOregon.com.\n\n&nbsp\;
LOCATION:Gleneden Beach\, Ore.\, {no_location}\, Gleneden Beach\, OR\, Unit
 ed States
X-APPLE-STRUCTURED-LOCATION;VALUE=URI;X-ADDRESS={no_location}\, Gleneden Be
 ach\, OR\, United States;X-APPLE-RADIUS=100;X-TITLE=Gleneden Beach\, Ore.:
 geo:0,0
END:VEVENT
BEGIN:VTIMEZONE
TZID:America/Los_Angeles
X-LIC-LOCATION:America/Los_Angeles
BEGIN:STANDARD
DTSTART:20191103T010000
TZOFFSETFROM:-0700
TZOFFSETTO:-0800
TZNAME:PST
END:STANDARD
END:VTIMEZONE
END:VCALENDAR