BEGIN:VCALENDAR
VERSION:2.0
PRODID:-//wp-events-plugin.com//7.2.3.1//EN
TZID:America/New_York
X-WR-TIMEZONE:America/New_York
BEGIN:VEVENT
UID:72@sheepusa.org
DTSTART;TZID=America/New_York;VALUE=DATE:20191013
DTEND;TZID=America/New_York;VALUE=DATE:20191014
DTSTAMP:20190927T194812Z
URL:https://www.sheepusa.org/events/ohio-sheep-improvement-association-lea
 d-council-awards-banquet
SUMMARY:Ohio Sheep Improvement Association LEAD Council Awards & Banquet
DESCRIPTION:Ohio Sheep Improvement Association LEAD Council Awards &amp\; B
 anquet\n\nFor information\, visit OhioSheep.org.\n\n&nbsp\;
LOCATION:Delaware\, Ohio\, {no_location}\, Delaware\, OH\, United States
X-APPLE-STRUCTURED-LOCATION;VALUE=URI;X-ADDRESS={no_location}\, Delaware\, 
 OH\, United States;X-APPLE-RADIUS=100;X-TITLE=Delaware\, Ohio:geo:0,0
END:VEVENT
BEGIN:VTIMEZONE
TZID:America/New_York
X-LIC-LOCATION:America/New_York
BEGIN:DAYLIGHT
DTSTART:20190310T030000
TZOFFSETFROM:-0500
TZOFFSETTO:-0400
TZNAME:EDT
END:DAYLIGHT
END:VTIMEZONE
END:VCALENDAR