BEGIN:VCALENDAR
VERSION:2.0
PRODID:-//wp-events-plugin.com//7.2.3.1//EN
TZID:America/New_York
X-WR-TIMEZONE:America/New_York
BEGIN:VEVENT
UID:492@sheepusa.org
DTSTART;TZID=America/Chicago;VALUE=DATE:20230909
DTEND;TZID=America/Chicago;VALUE=DATE:20230911
DTSTAMP:20221222T153224Z
URL:https://www.sheepusa.org/events/nebraska-sheep-and-goat-producers-annu
 al-conference
SUMMARY:Nebraska Sheep and Goat Producers Annual Conference
DESCRIPTION:Nebraska Sheep and Goat Producers Annual Conference\n\nFor more
  information\, email ne.sheep.goat@gmail.com.\n\n&nbsp\;
LOCATION:Broken Bow\, Neb.\, {No Location}\, Broken Bow\, NE\, United State
 s
X-APPLE-STRUCTURED-LOCATION;VALUE=URI;X-ADDRESS={No Location}\, Broken Bow\
 , NE\, United States;X-APPLE-RADIUS=100;X-TITLE=Broken Bow\, Neb.:geo:0,0
END:VEVENT
BEGIN:VTIMEZONE
TZID:America/Chicago
X-LIC-LOCATION:America/Chicago
BEGIN:DAYLIGHT
DTSTART:20230312T030000
TZOFFSETFROM:-0600
TZOFFSETTO:-0500
TZNAME:CDT
END:DAYLIGHT
END:VTIMEZONE
END:VCALENDAR