BEGIN:VCALENDAR
VERSION:2.0
PRODID:-//wp-events-plugin.com//7.2.3.1//EN
TZID:America/New_York
X-WR-TIMEZONE:America/New_York
BEGIN:VEVENT
UID:936@sheepusa.org
DTSTART;TZID=America/Denver;VALUE=DATE:20250517
DTEND;TZID=America/Denver;VALUE=DATE:20250518
DTSTAMP:20250501T134636Z
URL:https://www.sheepusa.org/events/ndsu-sheep-goat-advanced-reproductive-
 technologies-workshop
SUMMARY:NDSU Sheep & Goat Advanced Reproductive Technologies Workshop
DESCRIPTION:NDSU Sheep &amp\; Goat Advanced Reproductive Technologies Works
 hop\n\nFor more information\, visit NDSU.edu/agriculture/ag-hub/events/nds
 u-sheep-goat-advanced-reproductive-technologies-workshop.\n\n&nbsp\;
LOCATION:Hettinger\, N.D.\, {No Location}\, Hettinger\, ND\, United States
X-APPLE-STRUCTURED-LOCATION;VALUE=URI;X-ADDRESS={No Location}\, Hettinger\,
  ND\, United States;X-APPLE-RADIUS=100;X-TITLE=Hettinger\, N.D.:geo:0,0
END:VEVENT
BEGIN:VTIMEZONE
TZID:America/Denver
X-LIC-LOCATION:America/Denver
BEGIN:DAYLIGHT
DTSTART:20250309T030000
TZOFFSETFROM:-0700
TZOFFSETTO:-0600
TZNAME:MDT
END:DAYLIGHT
END:VTIMEZONE
END:VCALENDAR