BEGIN:VCALENDAR
VERSION:2.0
PRODID:-//wp-events-plugin.com//7.2.3.1//EN
TZID:America/New_York
X-WR-TIMEZONE:America/New_York
BEGIN:VEVENT
UID:688@sheepusa.org
DTSTART;TZID=America/Denver;VALUE=DATE:20240603
DTEND;TZID=America/Denver;VALUE=DATE:20240609
DTSTAMP:20240208T220700Z
URL:https://www.sheepusa.org/events/national-columbia-show-sale-2
SUMMARY:National Columbia Show & Sale
DESCRIPTION:National Columbia Show &amp\; Sale\n\nFor more information\, vi
 sit ColumbiaSheep.org/national-show-and-sale.\n\n&nbsp\;
LOCATION:Spanish Fork\, Utah\, {No Location}\, Spanish Fork\, UT\, United S
 tates
X-APPLE-STRUCTURED-LOCATION;VALUE=URI;X-ADDRESS={No Location}\, Spanish For
 k\, UT\, United States;X-APPLE-RADIUS=100;X-TITLE=Spanish Fork\, Utah:geo:
 0,0
END:VEVENT
BEGIN:VTIMEZONE
TZID:America/Denver
X-LIC-LOCATION:America/Denver
BEGIN:DAYLIGHT
DTSTART:20240310T030000
TZOFFSETFROM:-0700
TZOFFSETTO:-0600
TZNAME:MDT
END:DAYLIGHT
END:VTIMEZONE
END:VCALENDAR