BEGIN:VCALENDAR
VERSION:2.0
PRODID:-//wp-events-plugin.com//7.2.3.1//EN
TZID:America/New_York
X-WR-TIMEZONE:America/New_York
BEGIN:VEVENT
UID:294@sheepusa.org
DTSTART;TZID=America/New_York;VALUE=DATE:20211106
DTEND;TZID=America/New_York;VALUE=DATE:20211107
DTSTAMP:20210923T201642Z
URL:https://www.sheepusa.org/events/mountain-state-bred-ewe-doe-sale
SUMMARY:Mountain State Bred Ewe & Doe Sale
DESCRIPTION:Mountain State Bred Ewe &amp\; Doe Sale\n\nFor information\, vi
 sit www.wvsheepandgoatsale.com/bredewedoesale.html.\n\n&nbsp\;
LOCATION:Petersburg\, W.V.\, {No Location}\, Petersburg\, WV\, United State
 s
X-APPLE-STRUCTURED-LOCATION;VALUE=URI;X-ADDRESS={No Location}\, Petersburg\
 , WV\, United States;X-APPLE-RADIUS=100;X-TITLE=Petersburg\, W.V.:geo:0,0
END:VEVENT
BEGIN:VTIMEZONE
TZID:America/New_York
X-LIC-LOCATION:America/New_York
BEGIN:DAYLIGHT
DTSTART:20210314T030000
TZOFFSETFROM:-0500
TZOFFSETTO:-0400
TZNAME:EDT
END:DAYLIGHT
END:VTIMEZONE
END:VCALENDAR