BEGIN:VCALENDAR
VERSION:2.0
PRODID:-//wp-events-plugin.com//7.2.3.1//EN
TZID:America/New_York
X-WR-TIMEZONE:America/New_York
BEGIN:VEVENT
UID:804@sheepusa.org
DTSTART;TZID=America/Chicago;VALUE=DATE:20250305
DTEND;TZID=America/Chicago;VALUE=DATE:20250307
DTSTAMP:20241017T205133Z
URL:https://www.sheepusa.org/events/missouri-extension-shearing-school-2
SUMMARY:Missouri Extension Shearing School
DESCRIPTION:Missouri Extension Shearing School\n\nFor more information\, vi
 sit Lincolnu.qualtrics.com/jfe/form/SV_0dneWaxS3PQryWq.\n\n&nbsp\;
LOCATION:Jefferson City\, Mo.\, {no_location}\, Jefferson City\, MO\, Unite
 d States
X-APPLE-STRUCTURED-LOCATION;VALUE=URI;X-ADDRESS={no_location}\, Jefferson C
 ity\, MO\, United States;X-APPLE-RADIUS=100;X-TITLE=Jefferson City\, Mo.:g
 eo:0,0
END:VEVENT
BEGIN:VTIMEZONE
TZID:America/Chicago
X-LIC-LOCATION:America/Chicago
BEGIN:STANDARD
DTSTART:20241103T010000
TZOFFSETFROM:-0500
TZOFFSETTO:-0600
TZNAME:CST
END:STANDARD
END:VTIMEZONE
END:VCALENDAR