BEGIN:VCALENDAR
VERSION:2.0
PRODID:-//wp-events-plugin.com//7.2.3.1//EN
TZID:America/New_York
X-WR-TIMEZONE:America/New_York
BEGIN:VEVENT
UID:647@sheepusa.org
DTSTART;TZID=America/New_York;VALUE=DATE:20240127
DTEND;TZID=America/New_York;VALUE=DATE:20240128
DTSTAMP:20231117T161036Z
URL:https://www.sheepusa.org/events/michigan-state-university-birth-manage
 ment-workshop
SUMMARY:Michigan State University Birth Management Workshop
DESCRIPTION:Michigan State University Birth Management Workshop\n\nFor more
  information\, visit Events.anr.msu.edu/event.cfm?eventID=5476129B35606CD8
 8A0B550E6D4F0573380137744F05CEF22B03C49C335E845C.\n\n&nbsp\;
LOCATION:East Lansing\, Mich.\, {No Location}\, East Lansing\, MI\, United 
 States
X-APPLE-STRUCTURED-LOCATION;VALUE=URI;X-ADDRESS={No Location}\, East Lansin
 g\, MI\, United States;X-APPLE-RADIUS=100;X-TITLE=East Lansing\, Mich.:geo
 :0,0
END:VEVENT
BEGIN:VTIMEZONE
TZID:America/New_York
X-LIC-LOCATION:America/New_York
BEGIN:STANDARD
DTSTART:20231105T010000
TZOFFSETFROM:-0400
TZOFFSETTO:-0500
TZNAME:EST
END:STANDARD
END:VTIMEZONE
END:VCALENDAR