BEGIN:VCALENDAR
VERSION:2.0
PRODID:-//wp-events-plugin.com//7.2.3.1//EN
TZID:America/New_York
X-WR-TIMEZONE:America/New_York
BEGIN:VEVENT
UID:965@sheepusa.org
DTSTART;TZID=America/Chicago;VALUE=DATE:20251025
DTEND;TZID=America/Chicago;VALUE=DATE:20251026
DTSTAMP:20250624T181631Z
URL:https://www.sheepusa.org/events/kentucky-annual-producer-conference
SUMMARY:Kentucky Annual Producer Conference
DESCRIPTION:Kentucky Annual Producer Conference\nFor more information visit
 : www.kysheepandgoat.org
END:VEVENT
BEGIN:VTIMEZONE
TZID:America/Chicago
X-LIC-LOCATION:America/Chicago
BEGIN:DAYLIGHT
DTSTART:20250309T030000
TZOFFSETFROM:-0600
TZOFFSETTO:-0500
TZNAME:CDT
END:DAYLIGHT
END:VTIMEZONE
END:VCALENDAR