BEGIN:VCALENDAR
VERSION:2.0
PRODID:-//wp-events-plugin.com//7.2.3.1//EN
TZID:America/New_York
X-WR-TIMEZONE:America/New_York
BEGIN:VEVENT
UID:69@sheepusa.org
DTSTART;TZID=America/Chicago;VALUE=DATE:20191004
DTEND;TZID=America/Chicago;VALUE=DATE:20191006
DTSTAMP:20190927T191937Z
URL:https://www.sheepusa.org/events/kansas-sheep-association-symposium
SUMMARY:Kansas Sheep Association Symposium
DESCRIPTION:Kansas Sheep Association Symposium\n\nFor information\, email k
 ssheep@ruralnet.net\n\n&nbsp\;
LOCATION:Hutchinson\, Kan.\, {no_location}\, Hutchinson\, KS\, United State
 s
X-APPLE-STRUCTURED-LOCATION;VALUE=URI;X-ADDRESS={no_location}\, Hutchinson\
 , KS\, United States;X-APPLE-RADIUS=100;X-TITLE=Hutchinson\, Kan.:geo:0,0
END:VEVENT
BEGIN:VTIMEZONE
TZID:America/Chicago
X-LIC-LOCATION:America/Chicago
BEGIN:DAYLIGHT
DTSTART:20190310T030000
TZOFFSETFROM:-0600
TZOFFSETTO:-0500
TZNAME:CDT
END:DAYLIGHT
END:VTIMEZONE
END:VCALENDAR