BEGIN:VCALENDAR
VERSION:2.0
PRODID:-//wp-events-plugin.com//7.2.3.1//EN
TZID:America/New_York
X-WR-TIMEZONE:America/New_York
BEGIN:VEVENT
UID:835@sheepusa.org
DTSTART;TZID=Europe/Paris;VALUE=DATE:20250520
DTEND;TZID=Europe/Paris;VALUE=DATE:20250524
DTSTAMP:20241205T205748Z
URL:https://www.sheepusa.org/events/iwto-congress-2025
SUMMARY:IWTO Congress 2025
DESCRIPTION:International Wool Textile Organization Congress 2025\n\nFor mo
 re information\, visit IWTO.org/congress-2025/
LOCATION:Lille\, France\, {No Location}\, Lille\, France
X-APPLE-STRUCTURED-LOCATION;VALUE=URI;X-ADDRESS={No Location}\, Lille\, Fra
 nce;X-APPLE-RADIUS=100;X-TITLE=Lille\, France:geo:0,0
END:VEVENT
BEGIN:VTIMEZONE
TZID:Europe/Paris
X-LIC-LOCATION:Europe/Paris
BEGIN:DAYLIGHT
DTSTART:20250330T030000
TZOFFSETFROM:+0100
TZOFFSETTO:+0200
TZNAME:CEST
END:DAYLIGHT
END:VTIMEZONE
END:VCALENDAR