BEGIN:VCALENDAR
VERSION:2.0
PRODID:-//wp-events-plugin.com//7.2.3.1//EN
TZID:America/New_York
X-WR-TIMEZONE:America/New_York
BEGIN:VEVENT
UID:918@sheepusa.org
DTSTART;TZID=America/Chicago;VALUE=DATE:20250509
DTEND;TZID=America/Chicago;VALUE=DATE:20250510
DTSTAMP:20250417T160745Z
URL:https://www.sheepusa.org/events/iowa-state-university-extension-secure
 -sheep-wool-supply-plan-workshop
SUMMARY:Iowa State University Extension Secure Sheep & Wool Supply Plan Wor
 kshop
DESCRIPTION:Iowa State University Extension Secure Sheep &amp\; Wool Supply
  Plan Workshop\n\nFor more information\, visit Extension.IAState.edu/news/
 secure-sheep-and-wool-supply-plan-workshop-helps-protect-flocks-disease.\n
 \n&nbsp\;
LOCATION:Ames\, Iowa\, {No Location}\, Ames\, IA\, United States
X-APPLE-STRUCTURED-LOCATION;VALUE=URI;X-ADDRESS={No Location}\, Ames\, IA\,
  United States;X-APPLE-RADIUS=100;X-TITLE=Ames\, Iowa:geo:0,0
END:VEVENT
BEGIN:VTIMEZONE
TZID:America/Chicago
X-LIC-LOCATION:America/Chicago
BEGIN:DAYLIGHT
DTSTART:20250309T030000
TZOFFSETFROM:-0600
TZOFFSETTO:-0500
TZNAME:CDT
END:DAYLIGHT
END:VTIMEZONE
END:VCALENDAR