BEGIN:VCALENDAR
VERSION:2.0
PRODID:-//wp-events-plugin.com//7.2.3.1//EN
TZID:America/New_York
X-WR-TIMEZONE:America/New_York
BEGIN:VEVENT
UID:265@sheepusa.org
DTSTART;TZID=America/Chicago;VALUE=DATE:20210730
DTEND;TZID=America/Chicago;VALUE=DATE:20210731
DTSTAMP:20210716T152522Z
URL:https://www.sheepusa.org/events/iowa-sheep-industry-association-annual
 -meeting
SUMMARY:Iowa Sheep Industry Association Annual Meeting
DESCRIPTION:Iowa Sheep Industry Association Annual Meeting\n\nFor informati
 on\, visit IowaSheep.com.\n\n&nbsp\;
LOCATION:Spencer\, Iowa\, {no_location}\, Spencer\, Iowa\, United States
X-APPLE-STRUCTURED-LOCATION;VALUE=URI;X-ADDRESS={no_location}\, Spencer\, I
 owa\, United States;X-APPLE-RADIUS=100;X-TITLE=Spencer\, Iowa:geo:0,0
END:VEVENT
BEGIN:VTIMEZONE
TZID:America/Chicago
X-LIC-LOCATION:America/Chicago
BEGIN:DAYLIGHT
DTSTART:20210314T030000
TZOFFSETFROM:-0600
TZOFFSETTO:-0500
TZNAME:CDT
END:DAYLIGHT
END:VTIMEZONE
END:VCALENDAR