BEGIN:VCALENDAR
VERSION:2.0
PRODID:-//wp-events-plugin.com//7.2.3.1//EN
TZID:America/New_York
X-WR-TIMEZONE:America/New_York
BEGIN:VEVENT
UID:607@sheepusa.org
DTSTART;TZID=America/New_York;VALUE=DATE:20230909
DTEND;TZID=America/New_York;VALUE=DATE:20230911
DTSTAMP:20230720T204952Z
URL:https://www.sheepusa.org/events/garden-state-sheep-breeders-sheep-fibe
 r-festival-2
SUMMARY:Garden State Sheep Breeders Sheep & Fiber Festival
DESCRIPTION:Garden State Sheep Breeders Sheep &amp\; Fiber Festival\n\nFor 
 information\, visit NJSheep.net.\n\n&nbsp\;
LOCATION:Ringoes\, N.J.\, {No Location}\, Ringoes\, NJ\, United States
X-APPLE-STRUCTURED-LOCATION;VALUE=URI;X-ADDRESS={No Location}\, Ringoes\, N
 J\, United States;X-APPLE-RADIUS=100;X-TITLE=Ringoes\, N.J.:geo:0,0
END:VEVENT
BEGIN:VTIMEZONE
TZID:America/New_York
X-LIC-LOCATION:America/New_York
BEGIN:DAYLIGHT
DTSTART:20230312T030000
TZOFFSETFROM:-0500
TZOFFSETTO:-0400
TZNAME:EDT
END:DAYLIGHT
END:VTIMEZONE
END:VCALENDAR