BEGIN:VCALENDAR
VERSION:2.0
PRODID:-//wp-events-plugin.com//7.2.3.1//EN
TZID:America/New_York
X-WR-TIMEZONE:America/New_York
BEGIN:VEVENT
UID:631@sheepusa.org
DTSTART;TZID=America/Chicago;VALUE=DATE:20231019
DTEND;TZID=America/Chicago;VALUE=DATE:20231022
DTSTAMP:20231005T201536Z
URL:https://www.sheepusa.org/events/flocking-together-a-beginning-sheep-go
 at-producer-workshop
SUMMARY:Flocking Together: A Beginning Shepherd & Goat Producer Workshop
DESCRIPTION:Flocking Together: A Beginning Shepherd &amp\; Goat Producer Wo
 rkshop\n\nFor more information\, visit Go.WISC.edu/gy91bo.\n\n&nbsp\;
LOCATION:Arlington\, Wis.\, {No Location}\, Arlington\, WI\, United States
X-APPLE-STRUCTURED-LOCATION;VALUE=URI;X-ADDRESS={No Location}\, Arlington\,
  WI\, United States;X-APPLE-RADIUS=100;X-TITLE=Arlington\, Wis.:geo:0,0
END:VEVENT
BEGIN:VTIMEZONE
TZID:America/Chicago
X-LIC-LOCATION:America/Chicago
BEGIN:DAYLIGHT
DTSTART:20230312T030000
TZOFFSETFROM:-0600
TZOFFSETTO:-0500
TZNAME:CDT
END:DAYLIGHT
END:VTIMEZONE
END:VCALENDAR