BEGIN:VCALENDAR
VERSION:2.0
PRODID:-//wp-events-plugin.com//7.2.3.1//EN
TZID:America/New_York
X-WR-TIMEZONE:America/New_York
BEGIN:VEVENT
UID:604@sheepusa.org
DTSTART;TZID=America/Chicago;VALUE=DATE:20230810
DTEND;TZID=America/Chicago;VALUE=DATE:20230813
DTSTAMP:20230713T155010Z
URL:https://www.sheepusa.org/events/fiber-fest-weekend-retreat-2
SUMMARY:Fiber Fest Weekend Retreat
DESCRIPTION:Fiber Fest Weekend Retreat\n\nFor more information\, visit Shep
 herdsCross.com.\n\n&nbsp\;
LOCATION:Claremore\, Okla.\, {No Location}\, Claremore\, OK\, United States
X-APPLE-STRUCTURED-LOCATION;VALUE=URI;X-ADDRESS={No Location}\, Claremore\,
  OK\, United States;X-APPLE-RADIUS=100;X-TITLE=Claremore\, Okla.:geo:0,0
END:VEVENT
BEGIN:VTIMEZONE
TZID:America/Chicago
X-LIC-LOCATION:America/Chicago
BEGIN:DAYLIGHT
DTSTART:20230312T030000
TZOFFSETFROM:-0600
TZOFFSETTO:-0500
TZNAME:CDT
END:DAYLIGHT
END:VTIMEZONE
END:VCALENDAR