BEGIN:VCALENDAR
VERSION:2.0
PRODID:-//wp-events-plugin.com//7.2.3.1//EN
TZID:America/New_York
X-WR-TIMEZONE:America/New_York
BEGIN:VEVENT
UID:279@sheepusa.org
DTSTART;TZID=America/Los_Angeles:20210818T000000
DTEND;TZID=America/Los_Angeles:20210818T000000
DTSTAMP:20210721T202341Z
URL:https://www.sheepusa.org/events/feeding-livestock-in-a-time-of-drought
SUMMARY:Feeding Livestock in a Time of Drought
DESCRIPTION:Feeding Livestock in a Time of Drought\n\nFor information\, Wil
 liam Demers at 509-368-1307 or email redoakarts@yahoo.com.\n\n&nbsp\;
LOCATION:Valleyford\, Wash.\, {no_location}\, Valleyford\, WA\, United Stat
 es
X-APPLE-STRUCTURED-LOCATION;VALUE=URI;X-ADDRESS={no_location}\, Valleyford\
 , WA\, United States;X-APPLE-RADIUS=100;X-TITLE=Valleyford\, Wash.:geo:0,0
END:VEVENT
BEGIN:VTIMEZONE
TZID:America/Los_Angeles
X-LIC-LOCATION:America/Los_Angeles
BEGIN:DAYLIGHT
DTSTART:20210314T030000
TZOFFSETFROM:-0800
TZOFFSETTO:-0700
TZNAME:PDT
END:DAYLIGHT
END:VTIMEZONE
END:VCALENDAR