BEGIN:VCALENDAR
VERSION:2.0
PRODID:-//wp-events-plugin.com//7.2.3.1//EN
TZID:America/New_York
X-WR-TIMEZONE:America/New_York
BEGIN:VEVENT
UID:974@sheepusa.org
DTSTART;TZID=America/Chicago;VALUE=DATE:20251112
DTEND;TZID=America/Chicago;VALUE=DATE:20251114
DTSTAMP:20250729T162914Z
URL:https://www.sheepusa.org/events/dsanas-2025-virtual-dairy-sheep-sympos
 ium
SUMMARY:DSANA's 2025 Virtual Dairy Sheep Symposium
DESCRIPTION:DSANA's 2025 Virtual Dairy Sheep Symposium\nFor more informatio
 n visit: www.dsana.org
END:VEVENT
BEGIN:VTIMEZONE
TZID:America/Chicago
X-LIC-LOCATION:America/Chicago
BEGIN:STANDARD
DTSTART:20251102T010000
TZOFFSETFROM:-0500
TZOFFSETTO:-0600
TZNAME:CST
END:STANDARD
END:VTIMEZONE
END:VCALENDAR