BEGIN:VCALENDAR
VERSION:2.0
PRODID:-//wp-events-plugin.com//7.2.3.1//EN
TZID:America/New_York
X-WR-TIMEZONE:America/New_York
BEGIN:VEVENT
UID:904@sheepusa.org
DTSTART;TZID=America/Chicago;VALUE=DATE:20250405
DTEND;TZID=America/Chicago;VALUE=DATE:20250406
DTSTAMP:20250321T160159Z
URL:https://www.sheepusa.org/events/arlington-sheep-day-and-wisconsin-shee
 p-breeders-cooperative-annual-meeting
SUMMARY:Arlington Sheep Day and Wisconsin Sheep Breeders Cooperative Annual
  Meeting
DESCRIPTION:Arlington Sheep Day and Wisconsin Sheep Breeders Cooperative An
 nual Meeting\n\nFor more information\, visit WISBC.com/producer-education/
 arlington-sheep-day.php.\n\n&nbsp\;
LOCATION:Arlington\, Wis.\, {No Location}\, Arlington\, WI\, United States
X-APPLE-STRUCTURED-LOCATION;VALUE=URI;X-ADDRESS={No Location}\, Arlington\,
  WI\, United States;X-APPLE-RADIUS=100;X-TITLE=Arlington\, Wis.:geo:0,0
END:VEVENT
BEGIN:VTIMEZONE
TZID:America/Chicago
X-LIC-LOCATION:America/Chicago
BEGIN:DAYLIGHT
DTSTART:20250309T030000
TZOFFSETFROM:-0600
TZOFFSETTO:-0500
TZNAME:CDT
END:DAYLIGHT
END:VTIMEZONE
END:VCALENDAR