BEGIN:VCALENDAR
VERSION:2.0
PRODID:-//wp-events-plugin.com//7.2.3.1//EN
TZID:America/New_York
X-WR-TIMEZONE:America/New_York
BEGIN:VEVENT
UID:884@sheepusa.org
DTSTART;TZID=America/Los_Angeles;VALUE=DATE:20250503
DTEND;TZID=America/Los_Angeles;VALUE=DATE:20250504
DTSTAMP:20250228T003952Z
URL:https://www.sheepusa.org/events/99th-annual-cloverdale-ram-sale
SUMMARY:99th Annual Cloverdale Ram Sale
DESCRIPTION:99th Annual Cloverdale Ram Sale\n\nFor more information\, visit
  Facebook.com/profile.php?id=100064713562773.\n\n&nbsp\;
LOCATION:Cloverdale\, Calif.\, {No Location}\, Cloverdale\, CA\, United Sta
 tes
X-APPLE-STRUCTURED-LOCATION;VALUE=URI;X-ADDRESS={No Location}\, Cloverdale\
 , CA\, United States;X-APPLE-RADIUS=100;X-TITLE=Cloverdale\, Calif.:geo:0,
 0
END:VEVENT
BEGIN:VTIMEZONE
TZID:America/Los_Angeles
X-LIC-LOCATION:America/Los_Angeles
BEGIN:DAYLIGHT
DTSTART:20250309T030000
TZOFFSETFROM:-0800
TZOFFSETTO:-0700
TZNAME:PDT
END:DAYLIGHT
END:VTIMEZONE
END:VCALENDAR