BEGIN:VCALENDAR
VERSION:2.0
PRODID:-//wp-events-plugin.com//7.2.3.1//EN
TZID:America/New_York
X-WR-TIMEZONE:America/New_York
BEGIN:VEVENT
UID:233@sheepusa.org
DTSTART;TZID=America/Chicago;VALUE=DATE:20210820
DTEND;TZID=America/Chicago;VALUE=DATE:20210821
DTSTAMP:20210414T191942Z
URL:https://www.sheepusa.org/events/48th-annual-sheep-and-goat-field-day
SUMMARY:48th Annual Sheep and Goat Field Day
DESCRIPTION:48th Annual Sheep and Goat Field Day\n\nFor more information\, 
 visit agrilife.org/agrilifesheepandgoat/\n\n\n
LOCATION:San Angelo\, Texas\, {no_location}\, San Angelo\, TX\, United Stat
 es
X-APPLE-STRUCTURED-LOCATION;VALUE=URI;X-ADDRESS={no_location}\, San Angelo\
 , TX\, United States;X-APPLE-RADIUS=100;X-TITLE=San Angelo\, Texas:geo:0,0
END:VEVENT
BEGIN:VTIMEZONE
TZID:America/Chicago
X-LIC-LOCATION:America/Chicago
BEGIN:DAYLIGHT
DTSTART:20210314T030000
TZOFFSETFROM:-0600
TZOFFSETTO:-0500
TZNAME:CDT
END:DAYLIGHT
END:VTIMEZONE
END:VCALENDAR