BEGIN:VCALENDAR
VERSION:2.0
PRODID:-//wp-events-plugin.com//7.2.3.1//EN
TZID:America/New_York
X-WR-TIMEZONE:America/New_York
BEGIN:VEVENT
UID:656@sheepusa.org
DTSTART;TZID=America/Los_Angeles;VALUE=DATE:20240205
DTEND;TZID=America/Los_Angeles;VALUE=DATE:20240209
DTSTAMP:20231207T201013Z
URL:https://www.sheepusa.org/events/3q-advanced-shearing-clinic-3
SUMMARY:3Q Advanced Shearing Clinic
DESCRIPTION:3Q Advanced Shearing Clinic\n\nFor information\, call Michael E
 stes at 541-788-4682.\n\n&nbsp\;
LOCATION:TBD\, Oregon\, {No Location}\, TBD\, OR\, United States
X-APPLE-STRUCTURED-LOCATION;VALUE=URI;X-ADDRESS={No Location}\, TBD\, OR\, 
 United States;X-APPLE-RADIUS=100;X-TITLE=TBD\, Oregon:geo:0,0
END:VEVENT
BEGIN:VTIMEZONE
TZID:America/Los_Angeles
X-LIC-LOCATION:America/Los_Angeles
BEGIN:STANDARD
DTSTART:20231105T010000
TZOFFSETFROM:-0700
TZOFFSETTO:-0800
TZNAME:PST
END:STANDARD
END:VTIMEZONE
END:VCALENDAR