BEGIN:VCALENDAR
VERSION:2.0
PRODID:-//wp-events-plugin.com//7.2.3.1//EN
TZID:America/New_York
X-WR-TIMEZONE:America/New_York
BEGIN:VEVENT
UID:927@sheepusa.org
DTSTART;TZID=America/Denver;VALUE=DATE:20250911
DTEND;TZID=America/Denver;VALUE=DATE:20250912
DTSTAMP:20250424T191054Z
URL:https://www.sheepusa.org/events/100th-annual-montana-ram-sale
SUMMARY:100th Annual Montana Ram Sale
DESCRIPTION:100th Annual Montana Ram Sale\n\nFor more information\, visit M
 TSheep.org.\n\n&nbsp\;
LOCATION:Miles City\, Mont.\, {no_location}\, Miles City\, MT\, United Stat
 es
X-APPLE-STRUCTURED-LOCATION;VALUE=URI;X-ADDRESS={no_location}\, Miles City\
 , MT\, United States;X-APPLE-RADIUS=100;X-TITLE=Miles City\, Mont.:geo:0,0
END:VEVENT
BEGIN:VTIMEZONE
TZID:America/Denver
X-LIC-LOCATION:America/Denver
BEGIN:DAYLIGHT
DTSTART:20250309T030000
TZOFFSETFROM:-0700
TZOFFSETTO:-0600
TZNAME:MDT
END:DAYLIGHT
END:VTIMEZONE
END:VCALENDAR